BEGIN:VCALENDAR
VERSION:2.0
PRODID:-//Vestibular First - ECPv6.15.20//NONSGML v1.0//EN
CALSCALE:GREGORIAN
METHOD:PUBLISH
X-ORIGINAL-URL:https://vestibularfirst.com
X-WR-CALDESC:Events for Vestibular First
REFRESH-INTERVAL;VALUE=DURATION:PT1H
X-Robots-Tag:noindex
X-PUBLISHED-TTL:PT1H
BEGIN:VTIMEZONE
TZID:America/New_York
BEGIN:DAYLIGHT
TZOFFSETFROM:-0500
TZOFFSETTO:-0400
TZNAME:EDT
DTSTART:20230312T070000
END:DAYLIGHT
BEGIN:STANDARD
TZOFFSETFROM:-0400
TZOFFSETTO:-0500
TZNAME:EST
DTSTART:20231105T060000
END:STANDARD
BEGIN:DAYLIGHT
TZOFFSETFROM:-0500
TZOFFSETTO:-0400
TZNAME:EDT
DTSTART:20240310T070000
END:DAYLIGHT
BEGIN:STANDARD
TZOFFSETFROM:-0400
TZOFFSETTO:-0500
TZNAME:EST
DTSTART:20241103T060000
END:STANDARD
BEGIN:DAYLIGHT
TZOFFSETFROM:-0500
TZOFFSETTO:-0400
TZNAME:EDT
DTSTART:20250309T070000
END:DAYLIGHT
BEGIN:STANDARD
TZOFFSETFROM:-0400
TZOFFSETTO:-0500
TZNAME:EST
DTSTART:20251102T060000
END:STANDARD
END:VTIMEZONE
BEGIN:VEVENT
DTSTART;TZID=America/New_York:20241121T190000
DTEND;TZID=America/New_York:20241121T200000
DTSTAMP:20260423T060659
CREATED:20240913T005833Z
LAST-MODIFIED:20250729T012133Z
UID:10000176-1732215600-1732219200@vestibularfirst.com
SUMMARY:Journal Club - Suppression Head Impulse Paradigm (November 2024)
DESCRIPTION:Join Co-Founder Dr. Helena Esmonde PT\, DPT\, NCS and special guest Dr. Leonardo Manzari\, M.D. as they discuss information related to the Suppression Head Impulse Paradigm . \n\n\n\n\n\n\n\n\n\n\n\nDr. Manzari is lecturer in Otoneurology\, Vestibular Medicine and Rehabilitation at Pisa University. He is director\, lecturer and organizer of courses in Audiovestibular Medicine under the Continuing Education programme of the Italian Ministry for Health. He has authored many articles on otoneurology and posturology. He is also part of Board of Directors of Prosper Meniere’s Society. \nRegister for the event to be entered into our monthly raffle to win a Vestibular Model and download the article we’ll be discussing below. \n\n\n\n\n\n\n\n\n\n\n\n\n\n    			\n	\n	    			\n		            \n                                                        \n                        \n\n    	\n							\n																				Register Here\n											\n			    	\n        	\n							\n																				 Download Article\n											\n			    	\n    \n\n                    \n                            \n            	    \n	    \n	\n	\n				\n	\n	    			\n		            \n                                                        \n                        \n\n        \n    Guest\n Dr. Emily Kostelnik\, Ph.D. \nTitle\nMental Health Education and Utilization Among Patients with Vestibular Disorders \nAuthors\nKostelnik EO\, Howard LM\, Paulson JF \nCitation\nKostelnik EO\, Howard LM\, Paulson JF. Mental Health Education and Utilization Among Patients with Vestibular Disorders. J Clin Psychol Med Settings. 2025 Mar;32(1):163-173.
URL:https://vestibularfirst.com/event/journal-club-suppression-head-impulse-paradigm/
LOCATION:Virtual
CATEGORIES:Journal Club
ATTACH;FMTTYPE=image/png:https://vestibularfirst.com/wp-content/uploads/2024/09/Journal-Club-November-2024.png
END:VEVENT
END:VCALENDAR